BEGIN:VCALENDAR
VERSION:2.0
PRODID:-//Open Mainframe Project - ECPv6.15.20//NONSGML v1.0//EN
CALSCALE:GREGORIAN
METHOD:PUBLISH
X-ORIGINAL-URL:https://openmainframeproject.org
X-WR-CALDESC:Events for Open Mainframe Project
REFRESH-INTERVAL;VALUE=DURATION:PT1H
X-Robots-Tag:noindex
X-PUBLISHED-TTL:PT1H
BEGIN:VTIMEZONE
TZID:America/Los_Angeles
BEGIN:DAYLIGHT
TZOFFSETFROM:-0800
TZOFFSETTO:-0700
TZNAME:PDT
DTSTART:20220313T100000
END:DAYLIGHT
BEGIN:STANDARD
TZOFFSETFROM:-0700
TZOFFSETTO:-0800
TZNAME:PST
DTSTART:20221106T090000
END:STANDARD
BEGIN:DAYLIGHT
TZOFFSETFROM:-0800
TZOFFSETTO:-0700
TZNAME:PDT
DTSTART:20230312T100000
END:DAYLIGHT
BEGIN:STANDARD
TZOFFSETFROM:-0700
TZOFFSETTO:-0800
TZNAME:PST
DTSTART:20231105T090000
END:STANDARD
BEGIN:DAYLIGHT
TZOFFSETFROM:-0800
TZOFFSETTO:-0700
TZNAME:PDT
DTSTART:20240310T100000
END:DAYLIGHT
BEGIN:STANDARD
TZOFFSETFROM:-0700
TZOFFSETTO:-0800
TZNAME:PST
DTSTART:20241103T090000
END:STANDARD
END:VTIMEZONE
BEGIN:VEVENT
DTSTART;VALUE=DATE:20230511
DTEND;VALUE=DATE:20230512
DTSTAMP:20260420T110859
CREATED:20230406T000747Z
LAST-MODIFIED:20230406T000747Z
UID:10000134-1683763200-1683849599@openmainframeproject.org
SUMMARY:Mainframe Modernization Summit (Virtual)
DESCRIPTION:Experts in both cloud and mainframe applications come together at the first Mainframe Modernization Summit on May 11. This is the only event of its kind where you can explore the full range of possibilities for modernizing your mainframe applications. \n\n\n\n\n\n\n\n\n\n\n\n\nThis year’s Summit explores the options for your mainframe applications. While they were born on the mainframe\, what does their future look like in a cloud world? There is a range of options from staying on the mainframe to going cloud-native. \nWe’ll learn from industry leaders\, gain valuable insights\, and discover best practices that you can apply to your organization. \nOpen Mainframe Project will be represented in a strategic panel at the Summit. Please see below for details. \nStrategic Panel: Understanding the Mainframe Modernization Movement (9:45 am – 10:15 pm PDT//11:45 am – 12:15 pm CDT) \nWhat is mainframe modernization and why has it been getting so much attention in recent years? Industry thought leaders will explore the answers to those questions and much more in this strategic panel. \nSpeakers: \n \nRegister or learn more about the event at the main event website here. #MainframeMod23
URL:https://openmainframeproject.org/event/mainframe-modernization-summit-virtual/
CATEGORIES:All,Mainframe Modernization,Member Event
ATTACH;FMTTYPE=image/png:https://openmainframeproject.org/wp-content/uploads/sites/14/2023/04/Screenshot-2023-04-05-at-4.55.54-PM.png
END:VEVENT
END:VCALENDAR