BEGIN:VCALENDAR
VERSION:2.0
PRODID:-//Open Mainframe Project - ECPv6.15.20//NONSGML v1.0//EN
CALSCALE:GREGORIAN
METHOD:PUBLISH
X-WR-CALNAME:Open Mainframe Project
X-ORIGINAL-URL:https://openmainframeproject.org
X-WR-CALDESC:Events for Open Mainframe Project
REFRESH-INTERVAL;VALUE=DURATION:PT1H
X-Robots-Tag:noindex
X-PUBLISHED-TTL:PT1H
BEGIN:VTIMEZONE
TZID:America/Los_Angeles
BEGIN:DAYLIGHT
TZOFFSETFROM:-0800
TZOFFSETTO:-0700
TZNAME:PDT
DTSTART:20240310T100000
END:DAYLIGHT
BEGIN:STANDARD
TZOFFSETFROM:-0700
TZOFFSETTO:-0800
TZNAME:PST
DTSTART:20241103T090000
END:STANDARD
BEGIN:DAYLIGHT
TZOFFSETFROM:-0800
TZOFFSETTO:-0700
TZNAME:PDT
DTSTART:20250309T100000
END:DAYLIGHT
BEGIN:STANDARD
TZOFFSETFROM:-0700
TZOFFSETTO:-0800
TZNAME:PST
DTSTART:20251102T090000
END:STANDARD
BEGIN:DAYLIGHT
TZOFFSETFROM:-0800
TZOFFSETTO:-0700
TZNAME:PDT
DTSTART:20260308T100000
END:DAYLIGHT
BEGIN:STANDARD
TZOFFSETFROM:-0700
TZOFFSETTO:-0800
TZNAME:PST
DTSTART:20261101T090000
END:STANDARD
END:VTIMEZONE
BEGIN:VEVENT
DTSTART;VALUE=DATE:20250223
DTEND;VALUE=DATE:20250228
DTSTAMP:20260425T052217
CREATED:20250110T183555Z
LAST-MODIFIED:20250211T204832Z
UID:10000568-1740268800-1740700799@openmainframeproject.org
SUMMARY:SHARE Washington D.C 2025
DESCRIPTION:SHARE is an independent volunteer-run information technology association that provides education\, professional networking and industry influence. SHARE Washington D.C 2025 will be held from February 23-27\, 2025 at the Gaylord National Resort and Convention Center\, offering access to the latest enterprise IT news\, key focus areas\, prominent industry leaders\, and product highlights on emerging technologies. SHARE is an associate member of the Open Mainframe Project and Open Mainframe ambassadors will be on-site. Check out these Open Mainframe Project -related sessions and register here. \nAble Baker to Mainframer – What I Wish I’d Learnt at College About Enterprise Computing Systems – Joseph Winchester (IBM)\, Reg Harbeck & Steven Perva (Ensono)\nDate & Time: Mon Feb 24\, 2025; 10:30 AM – 11:30 AM; TZ: America/New_York; ID: 66901 \nAbstract: The mainframe is a difficult system to onboard. EBCDIC codepages\, Keyrings\, Data Sets with Fixed Blocks and more as well as the need to become versant at 3270 dialogs for proficient system programming. To folks at college these are often barriers to entry\, not because they’re difficult\, but because there is a hill to climb and information disparate and often dated. This talk will provide the skills and tools to quickly summit\, from the experience perspective of three mainframers with differing background\, sharing what they wish they’d learnt at college and now want to share with the SHARE attendees\, both new and experienced\, about the tips and tricks\, the cheat sheets\, and the background behind why\, as well as the solutions for\, the idiosyncracies of the platform that make the IBMz such a fantastic enterprise computing system \nTo Test or Not to Test??? – Joseph Winchester (IBM) & Gerald Mitchell (IBM)\nDate & Time: Mon Feb 24\, 2025; 2:30 PM – 3:30 PM; TZ: America/New_York; ID: 57615 \nAbstract: You want it? Open Source has got it. Check out Open Mainframe Project’s COBOL Check\, a framework for COBOL to help with test driven development; or GenevaERS\, the single-pass optimization engine for data extraction and transformation on z/OS is the tool. If you’re looking for more – there’s the newest project – Galasa\, which allows you to test your applications at scale regardless of platform — including z/OS. Join us to learn about these testing tools and how they can bring value into your development process and ask all your testing questions. \nKnow It Before Installing It! A Starter Guide for Zowe API Mediation Layer Administrators – Brian Jagos (Broadcom) & Dan Kelosky (Broadcom Software)\nDate & Time: Mon Feb 24\, 2025; 2:30 PM – 3:30 PM; TZ: America/New_York; ID: 70003 \nAbstract: This session will offer a comprehensive overview of the Open Mainframe Project Zowe API Mediation Layer configuration options and installation methods to help System Admins understand each and determine what is best suited for their company. We will showcase an installation example using the industry-standard z/OSMF\, PSWI and ZWE Command to serve as reference material for when you install on your own. \nZowe CLI and IBM Z NetView Plug-ins – Derrick Washington & Domenico D’Alterio (IBM)\nDate & Time: Mon Feb 24\, 2025; 2:30 PM – 3:30 PM; TZ: America/New_York; ID: 39468 \nAbstract: The speakers will provide information on the Zowe Command Line Interface (CLI) and the NetView plug-ins that extend the CLI interface. Topics will include basics about the CLI\, installation of the CLI and NetView plug-ins\, and using the NetView plug-ins. A demo will be done. \nBYOD Lab: DIY! Install and Configure the Zowe API Mediation Layer – Brian Jagos (Broadcom) & Andrej Chmelo\nDate & Time: Mon Feb 24\, 2025; 3:45 PM – 4:45 PM; TZ: America/New_York; ID: 70026 \nAbstract: If your company is interested in Open Mainframe Project Zowe and you are responsible for installing mainframe software don’t miss this opportunity. Participate in this hands-on lab where you will follow instructions to install and configure the API Mediation Layer on our Workshop Systems. We will include an overview of the latest configuration options\, discuss “what-if” scenarios and reserve time to discuss potential challenges. \nMaking the Mainframe Great Again With Zowe Command Line Interface (CLI) – Joseph Winchester (IBM) & Eugene Johnston (Broadcom)\nDate & Time: Tue Feb 25\, 2025; 10:30 AM – 11:30 AM; TZ: America/New_York; ID: 29997 \nAbstract: The Zowe Command Line Interface opens up IBM z/OS to non mainframers who want to do anything from ad-hoc scripting\, building full DevOps automation pipelines\, and everything inbetween. By providing simple easy to use intuitive commands to run commands covering everything from listing data sets\, submitting jobs\, running REXX\, as well working with CICS\, MQ and Db2\, non-mainframers can become versant at how to become mainframers without needing to leave their familiar PC terminal or command window\, and embed scripts in their laptop’s existing technology. This talk will cover 101 getting started with Zowe CLI through to advanced tasks such as console commands\, substitution variables\, and will cover many scenarios for the audience from beginner mainframe students to advanced system programming. \nWhy Zowe Is a Key Enabler for Mainframe Modernization: User Panel – Joseph Winchester (IBM Corporation)\, Steven Perva (Ensono)\, John Mertic (The Linux Foundation) & Rose Sakach (Broadcom)\nDate & Time: Tue Feb 25\, 2025; 2:30 PM – 3:30 PM; TZ: America/New_York; ID: 61076 \nAbstract: This panel will bring together users\, academics\, students\, vendors who have benefitted from the Zowe project being part of their modernization strategy. Together topics such as New to Z\, empowering existing toolchains to adapt to hybrid cloud\, familiar IDEs working with mainframe subsystems\, will be discussed together with challenges\, use cases\, and solutions for rolling out Zowe with success (as well as failures). \nHidden Treasures\, Advanced Features\, and Administrative Tips for Zowe API Mediation Layer – Dan Kelosky (Broadcom Software) & Elliot Jalley (Broadcom)\nDate & Time: Wed Feb 26\, 2025; 8:45 AM – 9:45 AM; TZ: America/New_York; ID: 70015 \nAbstract: What are the Administration expectations and the art-of-the-possible for the Open Mainframe Project Zowe API Mediation Layer? Join this session to understand the day-to-day and future potential. We will include the what\, why\, and how capabilities like dynamic discovery\, high availability\, multifactor authentication\, single-sign-on\, OIDC integration\, personal access tokens\, and multi-tenancy work and the value they may provide your organization. \nGenerations in Sync: Unlocking the Power of Technology Through Collaborative Communication – Philip Sutherin\, Sean Rooney (Broadcom)\, J.J. Lovett\, Steven Perva (Ensono) & Joseph Winchester (IBM Corporation)\nDate & Time: Wed Feb 26\, 2025; 10:00 AM – 11:00 AM; TZ: America/New_York; ID: 70016 \nAbstract: In this interactive session\, we will develop actionable strategies to enhance communication and knowledge transfer among mainframers of different generations. Participants will be grouped 1-on-1 by experience level for focused discussions on mainframe introductions\, “a-ha” moments\, lifelong learning\, and problem-solving. The goal is to actively foster collaboration to overcome industry wide barriers. \nAutomated Symphony: Orchestrating Automation Using Cutting Edge Tools Like VS Code\, Python\, and Zowe – Cody Giardinello (Broadcom) & Sean Rooney (Broadcom)\nDate & Time: Wed Feb 26\, 2025; 10:00 AM – 11:00 AM; TZ: America/New_York; ID: 70037 \nAbstract: Automation engineers lead with one mission in mind – automate everything. What tools are they using and why? VS Code has again been voted by developers as the preferred text editor\, and Python continues to grow exponentially on the mainframe. Join us as we examine what sets these tools apart and how they can be effectively leveraged in automation using OPS/MVS\, REST APIs\, and the Open Mainframe Project Zowe ecosystem. \nDispelling the Myths Around Open Source – Leonard Santalucia (Vicom Infinity\, A Converge Company)\nDate & Time: Wednesday\, February 26\, 2025: 3:45 PM – 4:45 PM; TZ: America/New_York; ID: 55125 \nAbstract: Wondering if Open Source is right for you and your organization? Don’t know what you don’t know? Is it myth or fact? Let the experts from within the Open Mainframe Project help you weed it all out. Fact or fiction\, we will help you understand why Open Source IS right for you and your organization. \nOpen Sesame – The Secret to Open Source on the Mainframe – John Mertic (The Linux Foundation)\nDate & Time: Wed Feb 26\, 2025; 5:00 PM – 6:00 PM; TZ: America/New_York; ID: 16848 \nAbstract: The open source movement has rapidly become the way code is being developed for today’s smart and agile businesses. This session will cover how an “open mainframe” is the perfect solution for deploying open source on an enterprise computing platform. Open Mainframe Project is home to 18 open source initiatives like Zowe and working groups for COBOL that aim to help overcome the the barriers between mainframes and other infrastructure to make DevOps easier and more efficient. This session will offer a quick glimpse of the challenges each project solves and how to get involved. \nBYOD Lab: Python\, REXX\, and Zowe CLI a No-Bake Recipe for Automation – Thomas McQuitty & Gene Johnston (Broadcom)\nDate & Time: Thu Feb 27\, 2025; 8:45 AM – 9:45 AM; TZ: America/New_York; ID: 70035 \nAbstract: Designed for traditional and new Mainframers\, this hands-on lab will cover the major tenants for creating mainframe automation: Open Mainframe Project Zowe CLI basics\, some Python coding techniques and the use of orchestration tools. We will include a focus on connectivity & establishing the Client configuration file\, exporting a mainframe report to a desktop spreadsheet and triggering off-host automation from an on-host REXX application. \nDemonstrating Zowe Containers With IBM z/OS Container Platform – Chris Hodgins\nDate & Time: Thu Feb 27\, 2025; 10:00 AM – 11:00 AM; TZ: America/New_York; ID: 30520 \nAbstract: Learn more about the benefits and challenges of the IBM z/OS Container Platform using Zowe as an example. Run Zowe in Kubernetes natively deployed on z/OS as shown in the demonstration at the end of the session. Zowe\, Kubernetes and IBM z/OS Container Platform can improve your integration into a hybrid environment while retaining the stability and security for which z/OS is renowned. (This needs to be finessed by Chris Hodgins so different to GSE presentation) \nTake Your Mainframe Career to a New Level With Zowe! – Dan Kelosky (Broadcom Software) & Michael Bauer (Broadcom)\nDate & Time: Thu Feb 27\, 2025; 1:45 PM – 2:45 PM; TZ: America/New_York; ID: 37687 \nAbstract: Advance your technical skills by contributing to Zowe. From modern to low level languages and frameworks such as: Node.js\, TypeScript\, JavaScript\, Angular\, Java\, Spring Boot\, HLASM\, and Metal C\, we’ll cover the bulk of Zowe’s underlying technologies and how the project on-boards new Community members. We will conclude by highlighting a recent contribution: the Zowe Java Client SDK. \nMainframe\, Movies and Me: A Journey Through Hollywood\, Computers\, Aliens and Mainframe Computing – Joseph Winchester (IBM Corporation)\nDate & Time: Thu Feb 27\, 2025; 3:00 PM – 4:00 PM; TZ: America/New_York; ID: 69851 \nAbstract: In this session Joe will discuss how while mainframes are mocked by rival computing architectures as belonging in the 1960s\, Hollywood understands us and promotes the mainframe as the superheroes’s IT platform of choice. From Will Smith\, Jeff Goldblum\, and countless others that have saved the world against aliens\, dinosaurs or supervillans\, these are the true hero in every Hollywood plot! This presentation is either going to get an award for being the funniest thing SHARE has ever presented\, or else the speaker is going to get the record lowest score and the most number of social media dislikes for being extremely unfunny. Either way folks seeing it hopefully won’t forget it. With any luck they’ll remember it for the right reasons and come away reflecting on what motived them to enter mainframe computing and have a fresh to-do list of movies to catch up with and music tracks to listen to next time they’re struggling to read a syslog or debug an abend. \n  \nCheck out the complete schedule for SHARE and register here.
URL:https://openmainframeproject.org/event/share-washington-d-c-2025/
CATEGORIES:Industry Conference
ATTACH;FMTTYPE=image/jpeg:https://openmainframeproject.org/wp-content/uploads/sites/14/2025/01/SHARE-2025-Washington-D.jpeg
END:VEVENT
BEGIN:VEVENT
DTSTART;VALUE=DATE:20250612
DTEND;VALUE=DATE:20250615
DTSTAMP:20260425T052217
CREATED:20250529T203039Z
LAST-MODIFIED:20250529T203433Z
UID:10000641-1749686400-1749945599@openmainframeproject.org
SUMMARY:VM Workshop (Columbus\, OH)
DESCRIPTION:The VM Workshop will take place on June 12-14 at The Ohio State University in Columbus\, Ohio. The group is a grassroots non-profit organization made up of customers\, ISVs\, and business partners with an interest in the use and growth of the z/VM platform\, Linux on IBM Z\, and VSE (z/VSE and VSEn). \nOpen Mainframe Project will be on-site at the event with a few sessions: \nEMMA: The Creation of a Mainframe Apprenticeship – Dr. Cameron Seay\, Adjunct Professor and Co-Chair of the COBOL Programming Course  \nThe Eli Madison Memorial Apprenticeship (EMMA) is a mainframe focused apprenticeship program. It uses the traditional apprenticeship model for technical roles. We feel this is THE solution to the “mainframe skills shortage” and have buy in from industry and the community at large. Currently involved are 3 mainframe ISVs\, 185 apprentices\, 6 university professors at 5 universities\, and 8 full time volunteers. EMMA is ready to do business. \nDispelling the Myths Around Open Source on the Mainframe – Len Santalucia\, CTO at Vicom Infinity\, a Converge Company and Chair of the Open Mainframe Project Governing Board \nWondering if Open Source is right for you and your organization? Don’t know what you don’t know? Is it myth or fact? Let the experts from within the Open Mainframe Project help you weed it all out. Fact or fiction\, we will help you understand why Open Source IS right for you and your organization. \nCheck out these sessions and more on the VM Workshop schedule here.
URL:https://openmainframeproject.org/event/vm-workshop-columbus-oh/
CATEGORIES:All,Ambassadors,Industry Conference
ATTACH;FMTTYPE=image/jpeg:https://openmainframeproject.org/wp-content/uploads/sites/14/2025/05/498140263_10161894616778702_641603252247092591_n.jpg
END:VEVENT
BEGIN:VEVENT
DTSTART;VALUE=DATE:20250630
DTEND;VALUE=DATE:20250701
DTSTAMP:20260425T052217
CREATED:20250529T194459Z
LAST-MODIFIED:20250908T235105Z
UID:10000639-1751241600-1751327999@openmainframeproject.org
SUMMARY:Community Day CFP for IBM TechXchange 2025 (Orlando\, FL)
DESCRIPTION:The Open Mainframe Project will again be featured as part of IBM TechXchange’s Community Day\, which will be held on October 6\, the first day of the event.  Last year\, Open Mainframe had record-breaking attendance and a packed agenda highlighting open source and projects including Zowe\, Galassa\, Mentorship\, Mainframe Open Education\, COBOL Programming Course\, Feilong\, Software Discovery Tool\, zopen Community and more. \nIf you are interested in speaking at Community Day\,  the Call for Presentations is currently open. \nSubmit topics by Monday\, June 30: https://bit.ly/4iWwhDH. \nThe timeline for the CFP: \n\nCFP opens: Thursday\, May 8\, 2025\nDeadline to submit CFP: Monday\, June 30\, 2025\, at 11 pm PDT\nSpeaker notifications: Monday\, July 21\, 2025\nSchedule announcement: Week of August 8\, 2025\n\nSubmit or register today!\nRegister for Community Day for free using the Open Mainframe code here. (This only registers you for Community Day on Monday\, October 6. It does not give you access to the rest of the IBM TechXchange conference.) \nRegister with the Open Mainframe Project code and link for a 30% discount on the TechXchange conference here.  \nOpen Mainframe Project is planning the content for October 6 as it pertains to the Community Day or Pre-Conference Day. The Linux Foundation and Open Mainframe Project are not managing TechXchange. The main TechXchange event is planned and managed by IBM. Learn more about TechXchange here.
URL:https://openmainframeproject.org/event/community-day-cfp-techxchange-2025/
CATEGORIES:All,CFP,IBM TechXchange,Industry Conference
ATTACH;FMTTYPE=image/png:https://openmainframeproject.org/wp-content/uploads/sites/14/2025/05/Community-Day.png
END:VEVENT
BEGIN:VEVENT
DTSTART;VALUE=DATE:20250817
DTEND;VALUE=DATE:20250822
DTSTAMP:20260425T052217
CREATED:20250529T230328Z
LAST-MODIFIED:20250801T175355Z
UID:10000643-1755388800-1755820799@openmainframeproject.org
SUMMARY:SHARE Cleveland (Ohio)
DESCRIPTION:SHARE Cleveland\, happening on August 17-21 at the Hilton Cleveland Downtown\, provides attendees with access to the latest enterprise IT news\, key focus areas\, prominent industry leaders and product highlights on emerging technologies all in one space over five days. \nOpen Mainframe Project will be on-site at the conference again this year with several sessions including: \nMonday\, August 18:\n\n9:15–10:15 am: Which Mainframe Connection Protocol: FTP\, SSH\, or z/OSMF – Just Another Manic Monday? – Dan Kelosky\, Broadcom Corporation\n \nBefore launching your modernization project leveraging Open Mainframe Project Zowe\, it’s important to have a comprehensive understanding of the available mainframe connection protocols. REST APIs? FTP? SSH? We’ll cover the available options\, the pros and cons of each and how to use them with the Zowe clients – Zowe CLI\, Zowe Explorer for VSC and the Zowe Client SDKs. \n\n2:30-3:30 pm: Dispelling the Myths Around Open Source on the Mainframe – John Mertic\, Linux Foundation \nWondering if Open Source on the Mainframe is right for you and your organization? Don’t know what you don’t know? Is it myth or fact? Let the experts from within the Linux Foundation Open Mainframe Project help you weed it all out. Fact or fiction\, we will help you understand why Open Source on the Mainframe IS right for you and your organization. \n2:30-3:30 pm: Mainframe Modernization Trends (Including DevOps) – Len Santalucia and Jerry Edgington\, Pellera Technologies \nMany different definitions of What mainframe Modernizations encompasses” have been discussed.In this session we will discuss many of them along with examples\, and include mainframe Devops!!!!!!!! \nTuesday\, August 19:\n3:30 – 4:30 pm: Customer Success Stories with Zowe – Joe Winchester\, IBM \nThis talk will cover customer success stories and scenarios where users have been able to deploy and use Zowe technology in real work situations. It will be given jointly with a customer (TBD) to showcase their use of DevOps and operation automation using Zowe CLI and Zowe Explorer. \nWednesday\, August 20:\n7:30-8:30 am: Skill Up! Mainframe Learning for All – IBM’s Devonte Hawkins\, Joe Winchester and Hunter Johnson\, Broadcom \nAs the mainframe industry evolves\, so does the need for accessible and engaging learning resources. This panel brings together experts from the Open Mainframe Project (OMP) Education Initiative\, the COBOL Programming Course\, and Zowe to discuss the future of mainframe education. Moderated from the perspective of an early-career professional\, this session will highlight essential learning tools—including the OMP Education Gitbook\, COBOL Programming with VS Code\, and the Fundamentals for Zowe course—that empower all professionals. Join us for an insightful discussion on how these resources shape the next generation of mainframe talent. \n10-11 am: Making the Mainframe Great Again With Zowe Command Line Interface (CLI) – Joe Winchester\, IBM and Gene Johnston\, Broadcom \nThe Zowe Command Line Interface opens up IBM z/OS to non mainframers who want to do anything from ad-hoc scripting\, building full DevOps automation pipelines\, and everything inbetween. By providing simple easy to use intuitive commands to run commands covering everything from listing data sets\, submitting jobs\, running REXX\, as well working with CICS\, MQ and Db2\, non-mainframers can become versant at how to become mainframers without needing to leave their familiar PC terminal or command window\, and embed scripts in their laptop’s existing technology. This talk will cover 101 getting started with Zowe CLI through to advanced tasks such as console commands\, substitution variables\, and will cover many scenarios for the audience from beginner mainframe students to advanced system programming. \n2:30-3:30 pm: How to Captain Your Mainframe’s USS Enterprise Environment – Joe Winchester\, IBM; Steven Perva\, Ensono; and Reg Harbeck\, Mainframe Analytics \nThis session will show how to become a Unix System Services power user\, embracing tools like Z Open Automation Utilities\, Z Open Community\, ZTI\, Access Control Lists\, CBT Tape USS utilities\, and more … We’ll show with practical examples and demos how and why its crucial for mainframers to understand the capabilities of the USS environment as well as how to configure\, secure\, and use it as the basis for python and bash scripting. It’s also the platform to enable Linux developers to embrace the z/OS operating system from within the comfort of a modern flexible UTF enabled shell allowing a wider range of open source and other packages to be ported and run on-prem to help continue to make the mainframe less of a steep learning curve for distributed IT staff. \n3:45-4:45 pm: Open Source and Industry Standards – Joe Bostian\, Chad McIntyre\, Frank DeGilio\, IBM \nInterfaces become industry standard when they are formalized in a specification\, or achieve a level of pervasive use. Standards organizations outline rules that governments and other organizations adopt as approved processes. These all have to be expressed in commonformats at public locations\, and through widely accepted processes. This is the essence of open source. Come and see how open source affects standards\, and how standards are adopted by open source communities. \nLearn more about the event or register for it here.
URL:https://openmainframeproject.org/event/share-cleveland-ohio/
CATEGORIES:All,Ambassadors,Industry Conference,SHARE
ATTACH;FMTTYPE=image/png:https://openmainframeproject.org/wp-content/uploads/sites/14/2025/05/Screenshot-2025-05-29-at-4.01.47 PM.png
END:VEVENT
BEGIN:VEVENT
DTSTART;VALUE=DATE:20251006
DTEND;VALUE=DATE:20251010
DTSTAMP:20260425T052217
CREATED:20250529T195639Z
LAST-MODIFIED:20250909T001700Z
UID:10000640-1759708800-1760054399@openmainframeproject.org
SUMMARY:IBM TechXchange 2025 (Orlando\, FL)
DESCRIPTION:IBM TechXchange\, taking place October 6-9 at the Orange County Convention Center and Hilton Orlando\, is the ultimate learning hub for developers\, technologists\, and techies looking to grow their skills. With 400+ learning courses and labs\, 150+ available certifications\, 1k+ technical events per year and a growing community of over 400k members\, IBM TechXchange is on a mission to creating a better future with technology. \nOpen Mainframe Project will be on-site again at Community Day on Monday\, October 6. Check out more details here. Additionally\, Open Mainframe will also have several other sessions presented by ambassadors and project leads including: \nMonday\, October 6:\n5:45 – 6:05 PM: The Linux Distributions Working Group as Part of the Open Mainframe Project – Sara Julia Kriesch (Kyndryl) \n4:00 – 5:00 PM: Dispelling the Myths Around Open Source on the Mainframe – Len Santalucia and Ken LoCascio (Pellera Tchnologies)\, Elizabeth Joseph (IBM)\, Steven Perva (Ensono) and Louisa Denly (IBM) \nWednesday\, October 8: \n11:00 – 11:20 AM: Credit Agricole: How to use modern tools to facilitate IBM z/OS operations and data access – Francois Delombe (CA-GIP) \n11:30 – 11:50 AM: Beyond DevOps: Unlocking New Possibilities with Zowe – Jan Prihoda (Broadcom) \n1:30 – 1:50 PM: Achieving Greater Business Agility with VS Code and Hybrid Toolchains – Vaughn Marshall (Broadcom) \n2:00 – 3:00 PM: ISPF and/or VS Code Zowe Explorer. how to become a power user in BOTH mainframe file editors – Jim Horne (Lowe’s Companies) and Joe Winchester (IBM) \n2:00 – 3:30 PM: Using OpenTelemetry to integrate the mainframe into enterprise-wide observability solutions – Chris Walker\, Rudiger Schulze\, Ash Mahay (IBM) \nOpen Mainframe Project will also be in the Open Source Zone in the event expo. Stop by the booth and get your 10th anniversary swag! \nRegister with the Open Mainframe Project code and link for a 30% discount on the TechXchange conference here. 
URL:https://openmainframeproject.org/event/ibm-techxchange-2025/
CATEGORIES:All,IBM TechXchange,Industry Conference
ATTACH;FMTTYPE=image/jpeg:https://openmainframeproject.org/wp-content/uploads/sites/14/2025/05/1756828218232.jpg
END:VEVENT
END:VCALENDAR