BEGIN:VCALENDAR
VERSION:2.0
PRODID:-//Open Mainframe Project - ECPv6.15.20//NONSGML v1.0//EN
CALSCALE:GREGORIAN
METHOD:PUBLISH
X-WR-CALNAME:Open Mainframe Project
X-ORIGINAL-URL:https://openmainframeproject.org
X-WR-CALDESC:Events for Open Mainframe Project
REFRESH-INTERVAL;VALUE=DURATION:PT1H
X-Robots-Tag:noindex
X-PUBLISHED-TTL:PT1H
BEGIN:VTIMEZONE
TZID:UTC
BEGIN:STANDARD
TZOFFSETFROM:+0000
TZOFFSETTO:+0000
TZNAME:UTC
DTSTART:20220101T000000
END:STANDARD
END:VTIMEZONE
BEGIN:VEVENT
DTSTART;VALUE=DATE:20230814
DTEND;VALUE=DATE:20230815
DTSTAMP:20260423T212147
CREATED:20230708T024647Z
LAST-MODIFIED:20230708T025123Z
UID:10000291-1691971200-1692057599@openmainframeproject.org
SUMMARY:Zowe Day @ SHARE New Orleans
DESCRIPTION:SHARE New Orleans takes place on August 13-18 at the Hyatt Regency. Open Mainframe Project will be represented at the conference with several sessions. including Zowe Day. \nZowe Day will take place on Monday\, August 14. \n9:45 – 10:45 am: Zowe Day Part 1: Zowe Hot Topics: Installation & Administration \nBring your installation questions\, suggestions and challenges to this session! Our Zowe experts will share tips & tricks for installing and administering Zowe z/OS components (API Mediation Layer\, Desktop\, & ZSS) and introduce you to Zen: the mainframe installation wizard for Zowe. \nSpeakers:  \n\nSean Grady\, Rocket Software\nJan Prihoda\, Broadcom\nJoe Winchester\, IBM\n\n11 am – 12 pm: Zowe Day Part 2: Zowe V2 Technical Highlights: API-ML\, CLI\, Web UI\, Explorers\, SDKs\, Chat and Event Streaming \nJoin this session if you want to know what’s new with Zowe V2 and a peek at Zowe V3. The Zowe Community Squad leads summarize features\, functions\, capabilities and important changes delivered in all of the Zowe V2 LTS release components as well as new components introduced as Technical Previews and GA extensions. \nSpeakers:  \n\nSean Grady\, Rocket Software\nElliot Jalley\, Broadcom\nMark Ackert\, Broadcom\nUladzislau Kalesnikau\, IBA\nAdam Wolfe\, Broadcom\n\n1:45 – 2:45 pm: Zowe Day Part 3: An Overview of Zowe’s Zero Trust Architecture with Technical Tips for Configuring Zowe Security \nZowe Security Deep Dive. Looking to better understand Zowe security? Don’t miss this session. We’ll review it from two angles. First\, how the Zowe Community produces Zowe as secure open source software and second\, how Zowe consumers configure Zowe components for high availability (HA)\, access & authentication that align with their internal security policies. \nSpeakers: \n\nMark Ackert\, Broadcom\nSean Grady\, Rocket Software\nJoe Winchester\, IBM\n\n3:15 – 4:15 pm: Zowe Day Part 4: Built-On-Zowe: Extenders Showcase Their Apps \nWith over 75 Zowe conformant extensions\, you are bound to be using a product\, solution or practical application enabled by one of them! Attend this session to see demonstrations and meet the vendors who develop them. \nSpeakers:  \n\n\nDomenico D’Alterio\, IBM\nMichael DuBois\, Broadcom\nJeff Cherrington\, Rocket Software\n\nLearn more or register on the main SHARE website.
URL:https://openmainframeproject.org/event/share-new-orleans-zowe-day/
CATEGORIES:All,Industry Conference,Zowe
ATTACH;FMTTYPE=image/png:https://openmainframeproject.org/wp-content/uploads/sites/14/2023/07/OMP-Sticker-Design-4.png
END:VEVENT
END:VCALENDAR